BEGIN:VCALENDAR
VERSION:2.0
PRODID:-//CIT Sandwich Polytechnic College - ECPv6.3.5//NONSGML v1.0//EN
CALSCALE:GREGORIAN
METHOD:PUBLISH
X-WR-CALNAME:CIT Sandwich Polytechnic College
X-ORIGINAL-URL:https://citspc.edu.in
X-WR-CALDESC:Events for CIT Sandwich Polytechnic College
REFRESH-INTERVAL;VALUE=DURATION:PT1H
X-Robots-Tag:noindex
X-PUBLISHED-TTL:PT1H
BEGIN:VTIMEZONE
TZID:Asia/Kolkata
BEGIN:STANDARD
TZOFFSETFROM:+0530
TZOFFSETTO:+0530
TZNAME:IST
DTSTART:20260101T000000
END:STANDARD
END:VTIMEZONE
BEGIN:VEVENT
DTSTART;TZID=Asia/Kolkata:20260119T150000
DTEND;TZID=Asia/Kolkata:20260119T163000
DTSTAMP:20260423T051156
CREATED:20250211T141303Z
LAST-MODIFIED:20251222T102344Z
UID:8843-1768834800-1768840200@citspc.edu.in
SUMMARY:TAMIL DEBATE
DESCRIPTION:STAFF COORDINATORS\nM. Nithyakalyani\nA.Sreedevi\nM Kowsalya
URL:https://citspc.edu.in/event/pixel-brilliance/
CATEGORIES:INFINITUM' 25
ATTACH;FMTTYPE=image/jpeg:https://citspc.edu.in/wp-content/uploads/2025/02/infinitum-25-e1766397474225.jpg
END:VEVENT
BEGIN:VEVENT
DTSTART;TZID=Asia/Kolkata:20260120T150000
DTEND;TZID=Asia/Kolkata:20260120T163000
DTSTAMP:20260423T051156
CREATED:20250213T071719Z
LAST-MODIFIED:20251222T102954Z
UID:8851-1768921200-1768926600@citspc.edu.in
SUMMARY:Maathi Yosi
DESCRIPTION:Staff Coordinators\nDr. R. Mangalam\nMr. M. Rajesh
URL:https://citspc.edu.in/event/maathi-yosi/
LOCATION:Conference Hall
CATEGORIES:INFINITUM' 25
ATTACH;FMTTYPE=image/jpeg:https://citspc.edu.in/wp-content/uploads/2025/02/infinitum-25-e1766397474225.jpg
END:VEVENT
BEGIN:VEVENT
DTSTART;TZID=Asia/Kolkata:20260120T150000
DTEND;TZID=Asia/Kolkata:20260120T170000
DTSTAMP:20260423T051156
CREATED:20250214T093908Z
LAST-MODIFIED:20251222T102924Z
UID:8880-1768921200-1768928400@citspc.edu.in
SUMMARY:Treasure Hunt
DESCRIPTION:Staff Coordinators\nDr N Balasubramaniam\nDr.N.Shanmugasundaram
URL:https://citspc.edu.in/event/pencil-art/
LOCATION:CITSPC
CATEGORIES:INFINITUM' 25
ATTACH;FMTTYPE=image/jpeg:https://citspc.edu.in/wp-content/uploads/2025/02/infinitum-25-e1766397474225.jpg
END:VEVENT
BEGIN:VEVENT
DTSTART;TZID=Asia/Kolkata:20260121T150000
DTEND;TZID=Asia/Kolkata:20260121T170000
DTSTAMP:20260423T051156
CREATED:20250214T094048Z
LAST-MODIFIED:20251222T102844Z
UID:8882-1769007600-1769014800@citspc.edu.in
SUMMARY:Rangoli
DESCRIPTION:Staff Coordinators\nK. Poornima\nA.V.R. Raksha\nK. Annapoorani\nS.Padmavathy
URL:https://citspc.edu.in/event/mehandi/
LOCATION:Science Block
CATEGORIES:INFINITUM' 25
ATTACH;FMTTYPE=image/jpeg:https://citspc.edu.in/wp-content/uploads/2025/02/infinitum-25-e1766397474225.jpg
END:VEVENT
BEGIN:VEVENT
DTSTART;TZID=Asia/Kolkata:20260214T090000
DTEND;TZID=Asia/Kolkata:20260214T170000
DTSTAMP:20260423T051156
CREATED:20260210T233342Z
LAST-MODIFIED:20260210T233342Z
UID:9214-1771059600-1771088400@citspc.edu.in
SUMMARY:“Faculty Development Programme on ICT Tools for Polytechnic Teaching”
DESCRIPTION:Address by resource person Dr. M. Sangeetha & Team Professor  Department of Information Technology Coimbatore Institute of Technology   Coimbatore – 641 014
URL:https://citspc.edu.in/event/faculty-development-programme-on-ict-tools-for-polytechnic-teaching/
LOCATION:Conference Hall
CATEGORIES:Faculty Development Programme
ATTACH;FMTTYPE=image/jpeg:https://citspc.edu.in/wp-content/uploads/2025/02/CITSPC-LOGO-WITH-COLOR-scaled.jpg
END:VEVENT
BEGIN:VEVENT
DTSTART;TZID=Asia/Kolkata:20260216T090000
DTEND;TZID=Asia/Kolkata:20260216T170000
DTSTAMP:20260423T051156
CREATED:20260210T233723Z
LAST-MODIFIED:20260210T233723Z
UID:9216-1771232400-1771261200@citspc.edu.in
SUMMARY:Institute Day 2026
DESCRIPTION:
URL:https://citspc.edu.in/event/institute-day-2026/
LOCATION:CIT Auditorium\, CIT SPC Campus\, Coimbatore\, Tamilnadu\, 641014\, India
CATEGORIES:Institute Day 2026
ATTACH;FMTTYPE=image/jpeg:https://citspc.edu.in/wp-content/uploads/2025/02/CITSPC-LOGO-WITH-COLOR-scaled.jpg
END:VEVENT
BEGIN:VEVENT
DTSTART;VALUE=DATE:20260321
DTEND;VALUE=DATE:20260401
DTSTAMP:20260423T051156
CREATED:20260320T002321Z
LAST-MODIFIED:20260321T075108Z
UID:9250-1774051200-1775001599@citspc.edu.in
SUMMARY:TN Skills – English for Employability Skills – Hackathon’26
DESCRIPTION:Our institute has bagged 1st Place in the TN Skills – English for Employability Skills – Hackathon’26\, organized by Business Toys Skills\, held on Friday\, 20.03.2026 at Government Polytechnic College\, Coimbatore. Around 120 students from various Polytechnic Colleges participated in the zonal level event. \nTopic: Organizational Communication Breakdown: Recovery and Prevention Strategy\nThe following students won 1 place in the event.\n* Sriram Sharma V – I Year\, DECE\n* Ashwin S – I Year\, DME\n* Poovanthikaa B – I Year\, DCE\n* Yadhava Krishnan S – I Year\, DME (SWC)\n* Jyothishmaty K S – I Year\, DECE\n* Rahul G R – I Year\, DCE \nWe congratulate the students and faculty members for bringing laurels to the institute.
URL:https://citspc.edu.in/event/tn-skills-english-for-employability-skills-hackathon26/
END:VEVENT
END:VCALENDAR