BEGIN:VCALENDAR
VERSION:2.0
PRODID:-//CIT Sandwich Polytechnic College - ECPv6.3.5//NONSGML v1.0//EN
CALSCALE:GREGORIAN
METHOD:PUBLISH
X-WR-CALNAME:CIT Sandwich Polytechnic College
X-ORIGINAL-URL:https://citspc.edu.in
X-WR-CALDESC:Events for CIT Sandwich Polytechnic College
REFRESH-INTERVAL;VALUE=DURATION:PT1H
X-Robots-Tag:noindex
X-PUBLISHED-TTL:PT1H
BEGIN:VTIMEZONE
TZID:Asia/Kolkata
BEGIN:STANDARD
TZOFFSETFROM:+0530
TZOFFSETTO:+0530
TZNAME:IST
DTSTART:20250101T000000
END:STANDARD
END:VTIMEZONE
BEGIN:VEVENT
DTSTART;TZID=Asia/Kolkata:20250630T100000
DTEND;TZID=Asia/Kolkata:20250630T170000
DTSTAMP:20260423T032242
CREATED:20250630T045140Z
LAST-MODIFIED:20250630T045140Z
UID:9035-1751277600-1751302800@citspc.edu.in
SUMMARY:2025-2026 Batch Orientation Programm
DESCRIPTION:First Year Induction
URL:https://citspc.edu.in/event/2025-2026-batch-orientation-programm/
LOCATION:CIT Auditorium\, CIT SPC Campus\, Coimbatore\, Tamilnadu\, 641014\, India
END:VEVENT
BEGIN:VEVENT
DTSTART;VALUE=DATE:20250611
DTEND;VALUE=DATE:20250618
DTSTAMP:20260423T032242
CREATED:20250616T052849Z
LAST-MODIFIED:20250616T080659Z
UID:8992-1749600000-1750204799@citspc.edu.in
SUMMARY:Induction Program III
DESCRIPTION:Induction Program III- for Final Year Students By Experts
URL:https://citspc.edu.in/event/induction-program-iii/
LOCATION:Conference Hall
CATEGORIES:General Events
ATTACH;FMTTYPE=image/jpeg:https://citspc.edu.in/wp-content/uploads/2025/06/2025-06-16-at-9.35.51-AM-scaled.jpeg
ORGANIZER;CN="CITSPC":MAILTO:citspc1961@gmail.com
END:VEVENT
BEGIN:VEVENT
DTSTART;TZID=Asia/Kolkata:20250228T153000
DTEND;TZID=Asia/Kolkata:20250228T170000
DTSTAMP:20260423T032242
CREATED:20250225T110358Z
LAST-MODIFIED:20250225T110419Z
UID:8902-1740756600-1740762000@citspc.edu.in
SUMMARY:Funding Supports for Successful Entrepreneurship
DESCRIPTION:
URL:https://citspc.edu.in/event/funding-supports-ffor-successful-entrepreneurship/
LOCATION:Conference Hall
CATEGORIES:Entrepreneurship Development Cell
ATTACH;FMTTYPE=image/jpeg:https://citspc.edu.in/wp-content/uploads/2025/02/CITSPC-LOGO-WITH-COLOR-scaled.jpg
END:VEVENT
BEGIN:VEVENT
DTSTART;TZID=Asia/Kolkata:20250220T110000
DTEND;TZID=Asia/Kolkata:20250220T123000
DTSTAMP:20260423T032242
CREATED:20250218T104313Z
LAST-MODIFIED:20250218T104313Z
UID:8887-1740049200-1740054600@citspc.edu.in
SUMMARY:Women In Development Committee of CIICP
DESCRIPTION:Health and hygiene
URL:https://citspc.edu.in/event/women-in-development-committee-of-ciicp/
LOCATION:Conference Hall
CATEGORIES:General Events
ATTACH;FMTTYPE=image/jpeg:https://citspc.edu.in/wp-content/uploads/2025/02/CITSPC-LOGO-WITH-COLOR-scaled.jpg
END:VEVENT
BEGIN:VEVENT
DTSTART;TZID=Asia/Kolkata:20250213T150000
DTEND;TZID=Asia/Kolkata:20250213T163000
DTSTAMP:20260423T032242
CREATED:20250206T085115Z
LAST-MODIFIED:20250206T085121Z
UID:8830-1739458800-1739464200@citspc.edu.in
SUMMARY:THE IMPACT OF AI IN YOUR AREA - PAPER PRESENTATION
DESCRIPTION:
URL:https://citspc.edu.in/event/the-impact-of-ai-in-your-area-paper-presentation/
LOCATION:Conference Hall
CATEGORIES:Club Events
ATTACH;FMTTYPE=image/png:https://citspc.edu.in/wp-content/uploads/2023/06/science_club.png
END:VEVENT
BEGIN:VEVENT
DTSTART;TZID=Asia/Kolkata:20250208T093000
DTEND;TZID=Asia/Kolkata:20250208T143000
DTSTAMP:20260423T032242
CREATED:20250206T083022Z
LAST-MODIFIED:20250206T083136Z
UID:8819-1739007000-1739025000@citspc.edu.in
SUMMARY:Staff Development Programme on "Stress Management"
DESCRIPTION:
URL:https://citspc.edu.in/event/staff-development-programme-on-stree-management/
LOCATION:Conference Hall
END:VEVENT
BEGIN:VEVENT
DTSTART;TZID=Asia/Kolkata:20250207T133000
DTEND;TZID=Asia/Kolkata:20250207T170000
DTSTAMP:20260423T032242
CREATED:20250207T013313Z
LAST-MODIFIED:20250207T013323Z
UID:8835-1738935000-1738947600@citspc.edu.in
SUMMARY:GTN Engineering India (On Campus Drive)
DESCRIPTION:
URL:https://citspc.edu.in/event/gtn-engineering-india-on-campus-drive/
CATEGORIES:Placement News
ATTACH;FMTTYPE=image/jpeg:https://citspc.edu.in/wp-content/uploads/2023/06/job-placement-1.jpg
END:VEVENT
BEGIN:VEVENT
DTSTART;VALUE=DATE:20250207
DTEND;VALUE=DATE:20250208
DTSTAMP:20260423T032242
CREATED:20250207T014023Z
LAST-MODIFIED:20250207T014039Z
UID:8839-1738886400-1738972799@citspc.edu.in
SUMMARY:Alstom India Transport (On Campus Drive)
DESCRIPTION:
URL:https://citspc.edu.in/event/alstom-india-transport-on-campus-drive/
LOCATION:placement
CATEGORIES:Placement News
ATTACH;FMTTYPE=image/jpeg:https://citspc.edu.in/wp-content/uploads/2023/06/job-placement-1.jpg
END:VEVENT
END:VCALENDAR