BEGIN:VCALENDAR
VERSION:2.0
PRODID:-//CIT Sandwich Polytechnic College - ECPv6.3.5//NONSGML v1.0//EN
CALSCALE:GREGORIAN
METHOD:PUBLISH
X-WR-CALNAME:CIT Sandwich Polytechnic College
X-ORIGINAL-URL:https://citspc.edu.in
X-WR-CALDESC:Events for CIT Sandwich Polytechnic College
REFRESH-INTERVAL;VALUE=DURATION:PT1H
X-Robots-Tag:noindex
X-PUBLISHED-TTL:PT1H
BEGIN:VTIMEZONE
TZID:Asia/Kolkata
BEGIN:STANDARD
TZOFFSETFROM:+0530
TZOFFSETTO:+0530
TZNAME:IST
DTSTART:20260101T000000
END:STANDARD
END:VTIMEZONE
BEGIN:VEVENT
DTSTART;VALUE=DATE:20260105
DTEND;VALUE=DATE:20260106
DTSTAMP:20260421T223218
CREATED:20251222T105218Z
LAST-MODIFIED:20251222T105218Z
UID:9153-1767571200-1767657599@citspc.edu.in
SUMMARY:Error Epic
DESCRIPTION:Staff coordinator (Mr/Mrs/Selvi)\nK.Thangalakshmi\nM.Kalpanadevi
URL:https://citspc.edu.in/event/error-epic/
ATTACH;FMTTYPE=image/jpeg:https://citspc.edu.in/wp-content/uploads/2025/02/infinitum-25-e1766397474225.jpg
END:VEVENT
BEGIN:VEVENT
DTSTART;VALUE=DATE:20260105
DTEND;VALUE=DATE:20260106
DTSTAMP:20260421T223218
CREATED:20251222T105337Z
LAST-MODIFIED:20251222T105337Z
UID:9155-1767571200-1767657599@citspc.edu.in
SUMMARY:Circuit Debugging
DESCRIPTION:Staff coordinator (Mr/Mrs/Selvi)\nA.Sakthivel\nD.Kadhiresan
URL:https://citspc.edu.in/event/circuit-debugging/
END:VEVENT
BEGIN:VEVENT
DTSTART;VALUE=DATE:20260105
DTEND;VALUE=DATE:20260111
DTSTAMP:20260421T223218
CREATED:20260103T012529Z
LAST-MODIFIED:20260103T012536Z
UID:9168-1767571200-1768089599@citspc.edu.in
SUMMARY:ATAL FDP
DESCRIPTION:ATAL FDP on    “Advanced Energy Storage Technologies for Sustainable Development”  \nAll are cordially invited.
URL:https://citspc.edu.in/event/atal-fdp/
ATTACH;FMTTYPE=image/jpeg:https://citspc.edu.in/wp-content/uploads/2026/01/IMG-20260102-WA0071.jpg
END:VEVENT
BEGIN:VEVENT
DTSTART;VALUE=DATE:20260106
DTEND;VALUE=DATE:20260107
DTSTAMP:20260421T223218
CREATED:20251222T105514Z
LAST-MODIFIED:20251222T105527Z
UID:9157-1767657600-1767743999@citspc.edu.in
SUMMARY:Mr. Mechanic
DESCRIPTION:Staff coordinator (Mr/Mrs/Selvi)\nC.J.Anand kumar\nA.Geetha
URL:https://citspc.edu.in/event/mr-mechanic/
ATTACH;FMTTYPE=image/jpeg:https://citspc.edu.in/wp-content/uploads/2025/02/infinitum-25-e1766397474225.jpg
END:VEVENT
BEGIN:VEVENT
DTSTART;TZID=Asia/Kolkata:20260108T150000
DTEND;TZID=Asia/Kolkata:20260108T163000
DTSTAMP:20260421T223218
CREATED:20250213T092759Z
LAST-MODIFIED:20251222T103803Z
UID:8870-1767884400-1767889800@citspc.edu.in
SUMMARY:Paper Wings
DESCRIPTION:Paper Rocket\nStaff coordinator (Mr/Mrs/Selvi)\nM.Ramesh\nS.Prasanth
URL:https://citspc.edu.in/event/paper-wings/
LOCATION:Drawing Hall
ATTACH;FMTTYPE=image/jpeg:https://citspc.edu.in/wp-content/uploads/2025/02/infinitum-25-e1766397474225.jpg
END:VEVENT
BEGIN:VEVENT
DTSTART;TZID=Asia/Kolkata:20260109T160000
DTEND;TZID=Asia/Kolkata:20260109T170000
DTSTAMP:20260421T223218
CREATED:20250213T072010Z
LAST-MODIFIED:20251222T103333Z
UID:8855-1767974400-1767978000@citspc.edu.in
SUMMARY:Short Film Event
DESCRIPTION:Staff Coordinators\nDr. K Ganesh Muthuram\nMrs. A Geetha\nMr. K Karthy
URL:https://citspc.edu.in/event/lights-camera-action-short-film-event/
LOCATION:Conference Hall
CATEGORIES:INFINITUM' 25
ATTACH;FMTTYPE=image/jpeg:https://citspc.edu.in/wp-content/uploads/2025/02/infinitum-25-e1766397474225.jpg
END:VEVENT
BEGIN:VEVENT
DTSTART;TZID=Asia/Kolkata:20260112T150000
DTEND;TZID=Asia/Kolkata:20260112T170000
DTSTAMP:20260421T223218
CREATED:20251222T095902Z
LAST-MODIFIED:20251222T102802Z
UID:9122-1768230000-1768237200@citspc.edu.in
SUMMARY:INFINITUM' 26 - PHOTOGRAPHY EVENT
DESCRIPTION:FESTIVE FRAMES – PHOTOGRAPHY EVENT \nStaff Coordinators\nDr. R. Rajajeyaganthan\nMr. K. P. Suriya\nMr. D Felix Christopher
URL:https://citspc.edu.in/event/infinitum-26/
ATTACH;FMTTYPE=image/jpeg:https://citspc.edu.in/wp-content/uploads/2025/02/infinitum-25-e1766397474225.jpg
END:VEVENT
BEGIN:VEVENT
DTSTART;TZID=Asia/Kolkata:20260113T100000
DTEND;TZID=Asia/Kolkata:20260113T130000
DTSTAMP:20260421T223218
CREATED:20250218T104513Z
LAST-MODIFIED:20251222T103206Z
UID:8892-1768298400-1768309200@citspc.edu.in
SUMMARY:Fireless Feast
DESCRIPTION:Staff Coordinators\nJ Cibi Anthony\nK. Praveen kumar
URL:https://citspc.edu.in/event/nail-art/
LOCATION:Science Block
CATEGORIES:INFINITUM' 25
ATTACH;FMTTYPE=image/jpeg:https://citspc.edu.in/wp-content/uploads/2025/02/infinitum-25-e1766397474225.jpg
END:VEVENT
BEGIN:VEVENT
DTSTART;TZID=Asia/Kolkata:20260119T150000
DTEND;TZID=Asia/Kolkata:20260119T163000
DTSTAMP:20260421T223218
CREATED:20250211T141303Z
LAST-MODIFIED:20251222T102344Z
UID:8843-1768834800-1768840200@citspc.edu.in
SUMMARY:TAMIL DEBATE
DESCRIPTION:STAFF COORDINATORS\nM. Nithyakalyani\nA.Sreedevi\nM Kowsalya
URL:https://citspc.edu.in/event/pixel-brilliance/
CATEGORIES:INFINITUM' 25
ATTACH;FMTTYPE=image/jpeg:https://citspc.edu.in/wp-content/uploads/2025/02/infinitum-25-e1766397474225.jpg
END:VEVENT
BEGIN:VEVENT
DTSTART;TZID=Asia/Kolkata:20260120T150000
DTEND;TZID=Asia/Kolkata:20260120T163000
DTSTAMP:20260421T223218
CREATED:20250213T071719Z
LAST-MODIFIED:20251222T102954Z
UID:8851-1768921200-1768926600@citspc.edu.in
SUMMARY:Maathi Yosi
DESCRIPTION:Staff Coordinators\nDr. R. Mangalam\nMr. M. Rajesh
URL:https://citspc.edu.in/event/maathi-yosi/
LOCATION:Conference Hall
CATEGORIES:INFINITUM' 25
ATTACH;FMTTYPE=image/jpeg:https://citspc.edu.in/wp-content/uploads/2025/02/infinitum-25-e1766397474225.jpg
END:VEVENT
BEGIN:VEVENT
DTSTART;TZID=Asia/Kolkata:20260120T150000
DTEND;TZID=Asia/Kolkata:20260120T170000
DTSTAMP:20260421T223218
CREATED:20250214T093908Z
LAST-MODIFIED:20251222T102924Z
UID:8880-1768921200-1768928400@citspc.edu.in
SUMMARY:Treasure Hunt
DESCRIPTION:Staff Coordinators\nDr N Balasubramaniam\nDr.N.Shanmugasundaram
URL:https://citspc.edu.in/event/pencil-art/
LOCATION:CITSPC
CATEGORIES:INFINITUM' 25
ATTACH;FMTTYPE=image/jpeg:https://citspc.edu.in/wp-content/uploads/2025/02/infinitum-25-e1766397474225.jpg
END:VEVENT
BEGIN:VEVENT
DTSTART;TZID=Asia/Kolkata:20260121T150000
DTEND;TZID=Asia/Kolkata:20260121T170000
DTSTAMP:20260421T223218
CREATED:20250214T094048Z
LAST-MODIFIED:20251222T102844Z
UID:8882-1769007600-1769014800@citspc.edu.in
SUMMARY:Rangoli
DESCRIPTION:Staff Coordinators\nK. Poornima\nA.V.R. Raksha\nK. Annapoorani\nS.Padmavathy
URL:https://citspc.edu.in/event/mehandi/
LOCATION:Science Block
CATEGORIES:INFINITUM' 25
ATTACH;FMTTYPE=image/jpeg:https://citspc.edu.in/wp-content/uploads/2025/02/infinitum-25-e1766397474225.jpg
END:VEVENT
END:VCALENDAR